BEGIN:VCALENDAR
VERSION:2.0
PRODID:gruene-edingen-neckarhausen.de
METHOD:PUBLISH
BEGIN:VTIMEZONE
TZID:Europe/Berlin
X-LIC-LOCATION:Europe/Berlin
BEGIN:DAYLIGHT
TZOFFSETFROM:+0100
TZOFFSETTO:+0200
TZNAME:CEST
DTSTART:19700329T020000
RRULE:FREQ=YEARLY;INTERVAL=1;BYDAY=-1SU;BYMONTH=3
END:DAYLIGHT
BEGIN:STANDARD
TZOFFSETFROM:+0200
TZOFFSETTO:+0100
TZNAME:CET
DTSTART:19701025T030000
RRULE:FREQ=YEARLY;INTERVAL=1;BYDAY=-1SU;BYMONTH=10
END:STANDARD
END:VTIMEZONE
BEGIN:VEVENT
UID:ffe8041ea932e4a13542ec55647c7590@gruene-edingen-neckarhausen.de
URL;VALUE=URI:https://gruene-edingen-neckarhausen.de/termine/naechtes-tre
 ffen-der-ogl-und-der-gruenen/
LOCATION:Friedrichshof, Anna-Bender-Straße 25, Edingen-Neckarhausen
SUMMARY:Nächstes Treffen der OGL und der Grünen
DESCRIPTION;ALTREP="data:text/html,%0A%3Cp%3EUnser%20n%C3%A4chstes%20Tref
 fen%20findet%20am%2024.04.%20um%2019%20Uhr%20im%20Friedrichshof%20statt.%
 3C%2Fp%3E%0A%0A%0A%0A%3Cp%3E%3C%2Fp%3E%0A":Unser nächstes Treffen findet
  am 24.04. um 19 Uhr im Friedrichshof statt.
CLASS:PUBLIC
DTSTART;TZID=Europe/Berlin:20260424T190000
DTEND;TZID=Europe/Berlin:20260424T210000
DTSTAMP:20260423T111907
END:VEVENT
END:VCALENDAR